BEGIN:VCALENDAR
VERSION:2.0
PRODID:-//American Ornithological Society - ECPv6.15.14//NONSGML v1.0//EN
CALSCALE:GREGORIAN
METHOD:PUBLISH
X-WR-CALNAME:American Ornithological Society
X-ORIGINAL-URL:https://americanornithology.org
X-WR-CALDESC:Events for American Ornithological Society
REFRESH-INTERVAL;VALUE=DURATION:PT1H
X-Robots-Tag:noindex
X-PUBLISHED-TTL:PT1H
BEGIN:VTIMEZONE
TZID:America/New_York
BEGIN:DAYLIGHT
TZOFFSETFROM:-0500
TZOFFSETTO:-0400
TZNAME:EDT
DTSTART:20250309T070000
END:DAYLIGHT
BEGIN:STANDARD
TZOFFSETFROM:-0400
TZOFFSETTO:-0500
TZNAME:EST
DTSTART:20251102T060000
END:STANDARD
BEGIN:DAYLIGHT
TZOFFSETFROM:-0500
TZOFFSETTO:-0400
TZNAME:EDT
DTSTART:20260308T070000
END:DAYLIGHT
BEGIN:STANDARD
TZOFFSETFROM:-0400
TZOFFSETTO:-0500
TZNAME:EST
DTSTART:20261101T060000
END:STANDARD
BEGIN:DAYLIGHT
TZOFFSETFROM:-0500
TZOFFSETTO:-0400
TZNAME:EDT
DTSTART:20270314T070000
END:DAYLIGHT
BEGIN:STANDARD
TZOFFSETFROM:-0400
TZOFFSETTO:-0500
TZNAME:EST
DTSTART:20271107T060000
END:STANDARD
END:VTIMEZONE
BEGIN:VEVENT
DTSTART;TZID=America/New_York:20260315T235900
DTEND;TZID=America/New_York:20260315T235900
DTSTAMP:20260420T064635
CREATED:20260204T192610Z
LAST-MODIFIED:20260204T192805Z
UID:10000022-1773619140-1773619140@americanornithology.org
SUMMARY:Applications due for AOS 2026 Caregiver Grants
DESCRIPTION:Applications must be submitted no later than 15 March 2026 by 11:59 p.m. ET. \nThe AOS is providing Caregiver Grants to help defray expenses to attend the AOS 2026 meeting. \nApplications must be submitted via the AOS 2026 Caregiver Grant Submission Portal. \nHOW TO APPLY
URL:https://americanornithology.org/calendar/applications-due-for-aos-2026-caregiver-grants/
CATEGORIES:Grant Applications
END:VEVENT
BEGIN:VEVENT
DTSTART;TZID=America/New_York:20260315T235900
DTEND;TZID=America/New_York:20260315T235900
DTSTAMP:20260420T064635
CREATED:20260204T192358Z
LAST-MODIFIED:20260204T192358Z
UID:10000021-1773619140-1773619140@americanornithology.org
SUMMARY:Applications due for AOS 2026 Travel Grants
DESCRIPTION:Applications must be submitted no later than 15 March 2026 by 11:59 p.m. ET. \nThe AOS is providing Travel Grants to help defray expenses to attend the AOS 2026 meeting. \nApplications must be submitted via the AOS 2026 Travel Grant Submission Portal. \nHOW TO APPLY
URL:https://americanornithology.org/calendar/applications-due-for-aos-2026-travel-grants/
CATEGORIES:Grant Applications
END:VEVENT
BEGIN:VEVENT
DTSTART;TZID=America/New_York:20260309T120000
DTEND;TZID=America/New_York:20260309T130000
DTSTAMP:20260420T064635
CREATED:20260127T171827Z
LAST-MODIFIED:20260302T220953Z
UID:10000013-1773057600-1773061200@americanornithology.org
SUMMARY:Mapping vertical distributions of birds in old-growth and second-growth trees at the H.J. Andrews Experimental Forest
DESCRIPTION:AOS Student Research Grant Seminar\nPresenter: Nina Ferrari\, Ph.D. Candidate\, Oregon State University; 2023 Werner and Hildegard Hesse Research Grant winner \n\nI will revisit some of Robert MacArthur’s questions around vertical partition as a mechanism for species coexistence in forests. Specifically\, my research investigates the vertical distributions of songbirds in trees in the Pacific Northwest. I use territory mapping playback and bioacoustics methodologies to examine the degree vertical partitioning in this ecosystem and the potential drivers behind it. \nMore about the Student Research Grant Seminar Series
URL:https://americanornithology.org/calendar/vertical-distributions-of-birds-in-old-growth-and-second-growth-trees-at-the-h-j-andrews-experimental-forest/
CATEGORIES:Events
LOCATION:https://americanornitholog y-org.zoom.us/webinar/register/WN_2djR0lEBTeuTjo_ZrlwVZQ#/registration
END:VEVENT
BEGIN:VEVENT
DTSTART;TZID=America/New_York:20260302T120000
DTEND;TZID=America/New_York:20260302T130000
DTSTAMP:20260420T064635
CREATED:20260129T215950Z
LAST-MODIFIED:20260218T195439Z
UID:10000017-1772452800-1772456400@americanornithology.org
SUMMARY:Effects of Extreme Temperatures on Resource Selection and Nestling Diet of American Kestrels in Agroecosystems
DESCRIPTION:AOS Student Research Grant Seminar\nThis event is postponed. \nPresenter: Mary Badger\, PhD candidate\, University of California Davis; 2024 Joseph Grinnell Research Grant winner \n \nExtreme heat driven by climate change poses a growing challenge for birds breeding in agricultural landscapes. This research examines how extreme temperatures and land use interact to shape resource selection\, movement\, nestling provisioning\, and diet in breeding American kestrels. Integrating GPS tracking\, nest box monitoring\, fine-scale temperature measurements\, and environmental DNA allows adult behavior\, space use\, and nestling diet to be evaluated across varying thermal and landscape conditions. \nMore about the Student Research Grant Seminar Series
URL:https://americanornithology.org/calendar/effects-of-extreme-temperatures-on-resource-selection-and-nestling-diet-of-american-kestrels-in-agroecosystems/
CATEGORIES:Events
LOCATION:https://americanornithology-org.zoom.us/webinar/register/WN_GZzh3cgKTFiUCUnHVLxtXA
END:VEVENT
BEGIN:VEVENT
DTSTART;TZID=America/New_York:20260227T235900
DTEND;TZID=America/New_York:20260227T235900
DTSTAMP:20260420T064635
CREATED:20260127T150204Z
LAST-MODIFIED:20260128T211558Z
UID:10000004-1772236740-1772236740@americanornithology.org
SUMMARY:Applications due for Latin American/Caribbean Conservation Research Grant
DESCRIPTION:Applications must be submitted no later than 27 February 2026 by 11:59 p.m. ET.\n\nThe AOS Conservation Committee sponsors a grants program to support early-career scientists from Latin America and the Caribbean conducting conservation-related research on either migratory or resident birds in those regions. \nApplications must be submitted via the AOS Member Portal. \nHOW TO APPLY
URL:https://americanornithology.org/calendar/applications-due-latin-american-caribbean-conservation-research-grant/
CATEGORIES:Grant Applications
END:VEVENT
BEGIN:VEVENT
DTSTART;TZID=America/New_York:20260223T120000
DTEND;TZID=America/New_York:20260223T130000
DTSTAMP:20260420T064635
CREATED:20260129T212433Z
LAST-MODIFIED:20260129T220515Z
UID:10000016-1771848000-1771851600@americanornithology.org
SUMMARY:Nightwatch: Uncovering Nightjar Nesting Behaviors with IR Cameras
DESCRIPTION:AOS Student Research Grant Seminar\nPresenter: Asch Nighthawk\, MSc. graduate\, SUNY Brockport; 2024 Alexander Wetmore Memorial Research Grant \nAs cryptic\, nocturnal birds\, nightjars are notoriously difficult to study. Using custom Raspberry Pi™ IR camera systems\, this project documented nesting behavior at 13 Eastern Whip-poor-will (Antrostomus vociferus) nests in northern New York. The footage captured examples of how Whip-poor-will chicks survive (or fail to survive) predator encounters\, the first confirmed case of social polygyny in the species\, and more\, showing the power of modern camera systems to advance nocturnal bird research. \nMore about the Student Research Grant Seminar Series
URL:https://americanornithology.org/calendar/nightwatch-uncovering-nightjar-nesting-behaviors-with-ir-cameras/
CATEGORIES:Events
LOCATION:https://americanornithology-org.zoom.us/webinar/register/WN_YycswUpSQrWeT2d4vSRFVw
END:VEVENT
BEGIN:VEVENT
DTSTART;TZID=America/New_York:20260216T120000
DTEND;TZID=America/New_York:20260216T130000
DTSTAMP:20260420T064635
CREATED:20260127T150547Z
LAST-MODIFIED:20260129T220311Z
UID:10000006-1771243200-1771246800@americanornithology.org
SUMMARY:Do urban songbirds beat the heat? Effects of urbanization and temperature on the behavior\, physiology\, and reproduction of Black Phoebes (Sayornis nigricans)
DESCRIPTION:AOS Student Research Grant Seminar\nPresenter: Sage Madden\, Ph.D. Candidate\, University of California Davis; 2023 Josselyn Van Tyne Memorial Research Grant winner \nUrbanization and climate change are two major threats to biodiversity\, yet they are often studied in isolation. As a result\, we lack a clear understanding of how their combined effects influence birds and other wildlife. I will present preliminary results of three field seasons investigating the combined effects of urbanization and extreme temperatures on parental care behavior\, stress physiology\, nestling growth and survival\, and nest architecture in a common urban songbird\, the Black Phoebe (Sayornis nigricans)\, in the Sacramento Valley of California. \nMore about the Student Research Grant Seminar Series
URL:https://americanornithology.org/calendar/do-urban-songbirds-beat-the-heat-effects-of-urbanization-and-temperature/
CATEGORIES:Events
LOCATION:https://americanornithology-org.zoom.us/webinar/register/WN_3_bNsB9zQNqAD0dhnmjgKQ#/registration
END:VEVENT
BEGIN:VEVENT
DTSTART;TZID=America/New_York:20260209T120000
DTEND;TZID=America/New_York:20260209T130000
DTSTAMP:20260420T064635
CREATED:20260129T205545Z
LAST-MODIFIED:20260129T220339Z
UID:10000015-1770638400-1770642000@americanornithology.org
SUMMARY:Spatiotemporal dynamics of geographic range in seasonally migratory birds
DESCRIPTION:AOS Student Research Grant Seminar\nPresenter: Matthew Hack\, Ph.D. candidate\, University of Michigan; 2024 Student Research Grant winner\n \nBird migration is one of the most spectacular phenomena of the natural world\, as billions of individual birds bring about profound spatial redistributions of biodiversity multiple times per year. My work aims to better understand the ecological and evolutionary factors structuring the distributions and timing of bird migrations. I use a combination of species distributional data and animal tracking technology to explore how the movements of seasonal migrants influence their geospatial distributions\, along with the evolutionary and ecological consequences of differing migratory strategies. \nMore about the Student Research Grant Seminar Series \n 
URL:https://americanornithology.org/calendar/spatiotemporal-dynamics-of-geographic-range-in-seasonally-migratory-birds/
CATEGORIES:Events
LOCATION:https://americanornithology-org.zoom.us/webinar/register/WN_nEx4OObRQG6aIylnO2YN6A
END:VEVENT
BEGIN:VEVENT
DTSTART;TZID=America/New_York:20260204T130000
DTEND;TZID=America/New_York:20260204T130000
DTSTAMP:20260420T064635
CREATED:20260127T151219Z
LAST-MODIFIED:20260128T211708Z
UID:10000007-1770210000-1770210000@americanornithology.org
SUMMARY:Latin American/Caribbean Conservation Research Grant Preparation Workshop
DESCRIPTION:The AOS Conservation Committee sponsors a grants program to support early-career scientists from Latin America and the Caribbean conducting conservation-related research on either migratory or resident birds in those regions. \nNEW in 2026! Online (optional) grant preparation workshop for applicants. \nWe will provide (in Spanish and English) guidelines for application\, share successful grant writing tips and project expectations from the evaluation committee\, and answer any questions about the process. \nGrant amount: Grants (N6) of up to $5\,000 USD each \nABOUT THIS GRANT
URL:https://americanornithology.org/calendar/latin-american-caribbean-conservation-research-grant-preparation-workshop/
CATEGORIES:Grant Applications
LOCATION:https://uwyo.zoom.us/j/8561711233
END:VEVENT
BEGIN:VEVENT
DTSTART;TZID=America/New_York:20260202T120000
DTEND;TZID=America/New_York:20260202T130000
DTSTAMP:20260420T064635
CREATED:20260127T150328Z
LAST-MODIFIED:20260129T220404Z
UID:10000005-1770033600-1770037200@americanornithology.org
SUMMARY:Avian responses to forest fragmentation in Borneo
DESCRIPTION:AOS Student Research Grant Seminar\nPresenter: William Brooks\, Ph.D. Candidate\, George Mason University\, 2023 Donald L. Bleitz Research Grant winner \n\nForest fragmentation drives global declines in biodiversity\, particularly among tropical birds inhabiting the forest understory. At present\, we do not understand why these birds are particularly sensitive. We are using passive acoustic surveys\, comparative analyses of microclimate and light intensity use\, and landscape genetics to attempt to investigate this issue in Borneo\, an under-studied biodiversity hotspot in Southeast Asia. \nMore about the Student Research Grant Seminar Series \n 
URL:https://americanornithology.org/calendar/avian-responses-to-forest-fragmentation-in-borneo/
CATEGORIES:Events
LOCATION:https://americanornithology-org.zoom.us/webinar/register/WN_p6pvoBRDSZ6eP-H_KntpXA#/
END:VEVENT
BEGIN:VEVENT
DTSTART;TZID=America/New_York:20260131T235900
DTEND;TZID=America/New_York:20260131T235900
DTSTAMP:20260420T064635
CREATED:20260127T145748Z
LAST-MODIFIED:20260128T211441Z
UID:10000003-1769903940-1769903940@americanornithology.org
SUMMARY:Applications due for 2026 Kessel Fellowships for Ornithological Research
DESCRIPTION:Applications must be submitted no later than 31 January 2026 by 11:59 p.m. ET. \nThe 2026 Kessel Fellowships will include an expanded opportunity for Arctic research. Fellowship grant amounts will be $15\,000 each for ornithological research and one $30\,000 grant for Arctic research. \nApplications must be submitted via the AOS Member Portal. \nHOW TO APPLY
URL:https://americanornithology.org/calendar/applications-due-for-2026-kessel-fellowships-for-ornithological-research/
CATEGORIES:Grant Applications
END:VEVENT
BEGIN:VEVENT
DTSTART;TZID=America/New_York:20260130T120000
DTEND;TZID=America/New_York:20260130T120000
DTSTAMP:20260420T064635
CREATED:20260129T193853Z
LAST-MODIFIED:20260129T214556Z
UID:10000014-1769774400-1769774400@americanornithology.org
SUMMARY:Student Research Grant Applications due
DESCRIPTION:Applications are due by NOON (ET) on 30 January 2026. \n  \nThe American Ornithological Society (AOS) gives annual Student Research Grants of up to $4\,000 to support research in various areas of avian biology by undergraduates\, graduate students\, and postdocs. The AOS encourages undergraduate students from any region to apply. \nHOW TO APPLY
URL:https://americanornithology.org/calendar/student-research-grant-applications-due/
CATEGORIES:Grant Applications
END:VEVENT
END:VCALENDAR